BEGIN:VCALENDAR
VERSION:2.0
PRODID:-//ChamberMaster//Event Calendar 2.0//EN
METHOD:PUBLISH
X-PUBLISHED-TTL:P3D
REFRESH-INTERVAL:P3D
CALSCALE:GREGORIAN
BEGIN:VEVENT
DTSTART:20210608T133000Z
DTEND:20210608T153000Z
X-MICROSOFT-CDO-ALLDAYEVENT:FALSE
SUMMARY:Marketing Essentials for Small Business
DESCRIPTION:Are you striving to enhance the marketing of your business? Wondering how to spend your precious resources to truly drive growth? In this interactive workshop\, participants will learn key marketing fundamentals that they will also integrate into their business including an effective\, actionable marketing plan. This five-week program covers both B to B and B to C companies and include:   Developing a customer-centric marketing approach   Conducting marketing research   Identifying segments and target markets   Differentiating your product/service offering   Establishing marketing goals and objectives   Building a workable marketing plan   Scheduled Development
X-ALT-DESC;FMTTYPE=text/html:Are you striving to enhance the marketing of your business? Wondering how to spend your precious resources to truly drive growth? In this interactive workshop\, participants will learn key marketing fundamentals that they will also integrate into their business including an effective\, actionable marketing plan. This five-week program covers both B to B and B to C companies and include: &bull\; Developing a customer-centric marketing approach &bull\; Conducting marketing research &bull\; Identifying segments and target markets &bull\; Differentiating your product/service offering &bull\; Establishing marketing goals and objectives &bull\; Building a workable marketing plan &bull\; Scheduled Development
LOCATION:Live Zoom
UID:e.2066.4029
SEQUENCE:3
DTSTAMP:20260423T125457Z
URL:https://dev.chainolakeschamber.com/events/details/marketing-essentials-for-small-business-4029
END:VEVENT

END:VCALENDAR
