BEGIN:VCALENDAR
VERSION:2.0
PRODID:-//ChamberMaster//Event Calendar 2.0//EN
METHOD:PUBLISH
X-PUBLISHED-TTL:P3D
REFRESH-INTERVAL:P3D
CALSCALE:GREGORIAN
BEGIN:VEVENT
DTSTART:20210809T210000Z
DTEND:20210810T000000Z
X-MICROSOFT-CDO-ALLDAYEVENT:FALSE
SUMMARY:Marketing Basics
DESCRIPTION:This workshop will provide you with basic knowledge of marketing essentials to help you build and grow your business.
X-ALT-DESC;FMTTYPE=text/html:This workshop will provide you with basic knowledge of marketing essentials to help you build and grow your business.
LOCATION:Live Zoom
UID:e.2066.4089
SEQUENCE:3
DTSTAMP:20260423T095327Z
URL:https://dev.chainolakeschamber.com/events/details/marketing-basics-4089
END:VEVENT

END:VCALENDAR
