BEGIN:VCALENDAR
VERSION:2.0
PRODID:-//ChamberMaster//Event Calendar 2.0//EN
METHOD:PUBLISH
X-PUBLISHED-TTL:P3D
REFRESH-INTERVAL:P3D
CALSCALE:GREGORIAN
BEGIN:VEVENT
DTSTART:20220323T163000Z
DTEND:20220323T180000Z
X-MICROSOFT-CDO-ALLDAYEVENT:FALSE
SUMMARY:March Lunch and Learn - Women in Leadership networking and panel
DESCRIPTION:In Honor of Women's History Month\, join us for a Women in Leadership networking event and panel discussion! Join local leaders sharing insights for today and tomorrow!\n\n\n\nA Multi-Chamber Panel Discussion with Lake Villa Lindenhurst Round Lake Area Chamber and Grayslake Chamber.
X-ALT-DESC;FMTTYPE=text/html:<span style="color: rgb(68\, 68\, 68)\; font-family: Arial\, Helvetica\, sans-serif\; font-size: 16px\;">In Honor of Women&#39\;s History Month\, join us for a Women in Leadership networking event and panel discussion! Join&nbsp\;local leaders sharing insights for today and tomorrow!</span><br style="box-sizing: border-box\; color: rgb(68\, 68\, 68)\; font-family: Arial\, Helvetica\, sans-serif\; font-size: 16px\;" />\n<br style="box-sizing: border-box\; color: rgb(68\, 68\, 68)\; font-family: Arial\, Helvetica\, sans-serif\; font-size: 16px\;" />\n<span style="color: rgb(68\, 68\, 68)\; font-family: Arial\, Helvetica\, sans-serif\; font-size: 16px\;">A Multi-Chamber Panel Discussion with Lake Villa Lindenhurst Round Lake Area Chamber and Grayslake Chamber.&nbsp\;&nbsp\;</span>
LOCATION:TBA
UID:e.2066.4196
SEQUENCE:3
DTSTAMP:20260422T223913Z
URL:https://dev.chainolakeschamber.com/events/details/march-lunch-and-learn-women-in-leadership-networking-and-panel-4196
END:VEVENT

END:VCALENDAR
