BEGIN:VCALENDAR
VERSION:2.0
PRODID:-//ChamberMaster//Event Calendar 2.0//EN
METHOD:PUBLISH
X-PUBLISHED-TTL:P3D
REFRESH-INTERVAL:P3D
CALSCALE:GREGORIAN
BEGIN:VEVENT
DTSTART:20181002T230000Z
DTEND:20181003T010000Z
X-MICROSOFT-CDO-ALLDAYEVENT:FALSE
SUMMARY:Manuacturing\, Trade & Industry Career Expo
DESCRIPTION:All senoir students will be able to register for $1\,000.00 in Post-secondary tech scholorships sponsored by the McHenry Rotary Club- Sunrise
X-ALT-DESC;FMTTYPE=text/html:All senoir students will be able to register for $1\,000.00 in Post-secondary tech scholorships sponsored by the McHenry Rotary Club- Sunrise
LOCATION:McHenry High School East Campus 1012 N Green St McHnery IL
UID:e.2066.1198
SEQUENCE:3
DTSTAMP:20260425T180912Z
URL:https://dev.chainolakeschamber.com/events/details/manuacturing-trade-industry-career-expo-1198
END:VEVENT

END:VCALENDAR
