BEGIN:VCALENDAR
VERSION:2.0
PRODID:-//ChamberMaster//Event Calendar 2.0//EN
METHOD:PUBLISH
X-PUBLISHED-TTL:P3D
REFRESH-INTERVAL:P3D
CALSCALE:GREGORIAN
BEGIN:VEVENT
DTSTART:20180615T150000Z
DTEND:20180615T160000Z
X-MICROSOFT-CDO-ALLDAYEVENT:FALSE
SUMMARY:Manners Monkey Painting
DESCRIPTION:Paint Manners Monkey with Joni Downey\, the creator of the Characters of Character. Bring this character to life on canvas and reinforce at home. You will meet Manners Monkey after the class is completed\, too! You MUST be registered. Space is limited. Kids 1-5 with an adult Kids 6-10 paint on their own
X-ALT-DESC;FMTTYPE=text/html:Paint Manners Monkey with Joni Downey\, the creator of the Characters of Character. Bring this character to life on canvas and reinforce at home. You will meet Manners Monkey after the class is completed\, too! You MUST be registered. Space is limited. Kids 1-5 with an adult Kids 6-10 paint on their own
LOCATION:Knotty Pine Farm in Wonderlake
UID:e.2066.1115
SEQUENCE:3
DTSTAMP:20260425T234418Z
URL:https://dev.chainolakeschamber.com/events/details/manners-monkey-painting-1115
END:VEVENT

END:VCALENDAR
