BEGIN:VCALENDAR
VERSION:2.0
PRODID:-//ChamberMaster//Event Calendar 2.0//EN
METHOD:PUBLISH
X-PUBLISHED-TTL:P3D
REFRESH-INTERVAL:P3D
CALSCALE:GREGORIAN
BEGIN:VEVENT
DTSTART:20221020T150000Z
DTEND:20221020T160000Z
X-MICROSOFT-CDO-ALLDAYEVENT:FALSE
SUMMARY:Managing Costs Wisely During A Pandemic and High Inflation
DESCRIPTION:Several ideas will be presented on how mid-sized businesses can save money in these challenging times\, through the reduction of service-provider pricing\, tax incentives\, and process improvements. Topics include: * Service provider analysis   industries that are over-priced and why\; how to save costs on your own\; identify unneeded services\; benchmarking prices * Tax Incentives   defer taxes with accelerated depreciation\; tax credit for manufacturing * Process Improvements   shipping improvement\; earned wage access for keeping employees
X-ALT-DESC;FMTTYPE=text/html:Several ideas will be presented on how mid-sized businesses can save money in these challenging times\, through the reduction of service-provider pricing\, tax incentives\, and process improvements. Topics include: * Service provider analysis &ndash\; industries that are over-priced and why\; how to save costs on your own\; identify unneeded services\; benchmarking prices * Tax Incentives &ndash\; defer taxes with accelerated depreciation\; tax credit for manufacturing * Process Improvements &ndash\; shipping improvement\; earned wage access for keeping employees
LOCATION:Live Zoom
UID:e.2066.4616
SEQUENCE:3
DTSTAMP:20260422T105819Z
URL:https://dev.chainolakeschamber.com/events/details/managing-costs-wisely-during-a-pandemic-and-high-inflation-4616
END:VEVENT

END:VCALENDAR
