BEGIN:VCALENDAR
VERSION:2.0
PRODID:-//ChamberMaster//Event Calendar 2.0//EN
METHOD:PUBLISH
X-PUBLISHED-TTL:P3D
REFRESH-INTERVAL:P3D
CALSCALE:GREGORIAN
BEGIN:VEVENT
DTSTART:20191023T230000Z
DTEND:20191024T003000Z
X-MICROSOFT-CDO-ALLDAYEVENT:FALSE
SUMMARY:Managing Cash Flow
DESCRIPTION:Understanding how to manage cash flow\, and the tools available to small business owners is vital to properly plan for growth. Some of the most important tools include managing receivables\, payables and liquidity. Loan options\, accounting options and developing cash flow projections are also critical to success. This workshop includes case studies and tips for avoiding pitfalls that could put your business in difficult cash flow situations. Topics include understanding revenue trends and planning for growth\, avoiding a "cash crunch" and understanding options for proper cash flow management.
X-ALT-DESC;FMTTYPE=text/html:Understanding how to manage cash flow\, and the tools available to small business owners is vital to properly plan for growth. Some of the most important tools include managing receivables\, payables and liquidity. Loan options\, accounting options and developing cash flow projections are also critical to success. This workshop includes case studies and tips for avoiding pitfalls that could put your business in difficult cash flow situations. Topics include understanding revenue trends and planning for growth\, avoiding a &ldquo\;cash crunch&rdquo\; and understanding options for proper cash flow management.
LOCATION:College of Lake County Grayslake Campus 19351 W Washington Street Grayslake\, IL 60030
UID:e.2066.2969
SEQUENCE:3
DTSTAMP:20260424T220336Z
URL:https://dev.chainolakeschamber.com/events/details/managing-cash-flow-2969
END:VEVENT

END:VCALENDAR
