BEGIN:VCALENDAR
VERSION:2.0
PRODID:-//ChamberMaster//Event Calendar 2.0//EN
METHOD:PUBLISH
X-PUBLISHED-TTL:P3D
REFRESH-INTERVAL:P3D
CALSCALE:GREGORIAN
BEGIN:VEVENT
DTSTART:20230209T150000Z
DTEND:20230209T163000Z
X-MICROSOFT-CDO-ALLDAYEVENT:FALSE
SUMMARY:Making Meetings Meaningful
DESCRIPTION:"Let's have more meetings!" said nobody\, ever. Most of us dread meetings\, finding them dull\, disorganized and disheartening when we have to rinse and repeat the process without getting results. Boost efficiency up to 20% and productivity up to 22% when you know the best practices for conducting meetings that actually get things done.
X-ALT-DESC;FMTTYPE=text/html:&quot\;Let&#39\;s have more meetings!&quot\; said nobody\, ever. Most of us dread meetings\, finding them dull\, disorganized and disheartening when we have to rinse and repeat the process without getting results. Boost efficiency up to 20% and productivity up to 22% when you know the best practices for conducting meetings that actually get things done.
LOCATION:Live Zoom
UID:e.2066.4941
SEQUENCE:3
DTSTAMP:20260419T222845Z
URL:https://dev.chainolakeschamber.com/events/details/making-meetings-meaningful-4941
END:VEVENT

END:VCALENDAR
