BEGIN:VCALENDAR
VERSION:2.0
PRODID:-//ChamberMaster//Event Calendar 2.0//EN
METHOD:PUBLISH
X-PUBLISHED-TTL:P3D
REFRESH-INTERVAL:P3D
CALSCALE:GREGORIAN
BEGIN:VEVENT
DTSTART:20211007T140000Z
DTEND:20211007T160000Z
X-MICROSOFT-CDO-ALLDAYEVENT:FALSE
SUMMARY:Making an Exit - Handling Terminations
DESCRIPTION:Terminating an employee can cost a company up to 150% of their salary\, or more if handled in a manner that leads to legal action. Whether it's by their own accord or not\, there are a lot of things a manager needs to know how to handle when it comes time for an employee to leave the organization. The stakes can be high\, with potential legal issues\, loss of property or proprietary company information\, and the strain of picking up the slack until a replacement can be brought in.
X-ALT-DESC;FMTTYPE=text/html:Terminating an employee can cost a company up to 150% of their salary\, or more if handled in a manner that leads to legal action. Whether it&#39\;s by their own accord or not\, there are a lot of things a manager needs to know how to handle when it comes time for an employee to leave the organization. The stakes can be high\, with potential legal issues\, loss of property or proprietary company information\, and the strain of picking up the slack until a replacement can be brought in.
LOCATION:Live Zoom
UID:e.2066.4133
SEQUENCE:3
DTSTAMP:20260423T065147Z
URL:https://dev.chainolakeschamber.com/events/details/making-an-exit-handling-terminations-4133
END:VEVENT

END:VCALENDAR
