BEGIN:VCALENDAR
VERSION:2.0
PRODID:-//ChamberMaster//Event Calendar 2.0//EN
METHOD:PUBLISH
X-PUBLISHED-TTL:P3D
REFRESH-INTERVAL:P3D
CALSCALE:GREGORIAN
BEGIN:VEVENT
DTSTART:20211005T220000Z
DTEND:20211006T000000Z
X-MICROSOFT-CDO-ALLDAYEVENT:FALSE
SUMMARY:Make Working From Home Work For You
DESCRIPTION:The more hours an individual works from home\, the less productive they become. Those who worked full time (8 hours/day) at home are 70% less productive than those who don't work from home. Get simple yet powerful tools to avoid burnout or worse while making working from home truly work for you.
X-ALT-DESC;FMTTYPE=text/html:The more hours an individual works from home\, the less productive they become. Those who worked full time (8 hours/day) at home are 70% less productive than those who don&rsquo\;t work from home. Get simple yet powerful tools to avoid burnout or worse while making working from home truly work for you.
LOCATION:Live Zoom
UID:e.2066.4130
SEQUENCE:3
DTSTAMP:20260423T065451Z
URL:https://dev.chainolakeschamber.com/events/details/make-working-from-home-work-for-you-10-05-2021-4130
END:VEVENT

END:VCALENDAR
