BEGIN:VCALENDAR
VERSION:2.0
PRODID:-//ChamberMaster//Event Calendar 2.0//EN
METHOD:PUBLISH
X-PUBLISHED-TTL:P3D
REFRESH-INTERVAL:P3D
CALSCALE:GREGORIAN
BEGIN:VEVENT
DTSTART:20230824T133000Z
DTEND:20230824T153000Z
X-MICROSOFT-CDO-ALLDAYEVENT:FALSE
SUMMARY:Make Better Decisions for You\, Your Team & Your Projects
DESCRIPTION:In this highly interactive webinar\, Andy Kaufman\, PMP shares why the familiar pros-and-cons approach seems to make sense but is profoundly flawed. He discusses how our biases influence the options we consider and the choices we make\, and how we can fight those biases. Andy shares examples of how team leaders can influence team decisions in positive and negative ways. Is our problem with decisions that we are overconfident? Maybe and maybe not! Andy will show how overconfidence is overrated as an explanation for poor decisions.
X-ALT-DESC;FMTTYPE=text/html:In this highly interactive webinar\, Andy Kaufman\, PMP shares why the familiar pros-and-cons approach seems to make sense&mdash\;but is profoundly flawed. He discusses how our biases influence the options we consider and the choices we make\, and how we can fight those biases. Andy shares examples of how team leaders can influence team decisions in positive and negative ways. Is our problem with decisions that we are overconfident? Maybe&mdash\;and maybe not! Andy will show how overconfidence is overrated as an explanation for poor decisions.
LOCATION:Live Zoom
UID:e.2066.5342
SEQUENCE:3
DTSTAMP:20260419T121216Z
URL:https://dev.chainolakeschamber.com/events/details/make-better-decisions-for-you-your-team-your-projects-5342
END:VEVENT

END:VCALENDAR
