BEGIN:VCALENDAR
VERSION:2.0
PRODID:-//ChamberMaster//Event Calendar 2.0//EN
METHOD:PUBLISH
X-PUBLISHED-TTL:P3D
REFRESH-INTERVAL:P3D
CALSCALE:GREGORIAN
BEGIN:VEVENT
DTSTART:20230220T220000Z
DTEND:20230220T230000Z
X-MICROSOFT-CDO-ALLDAYEVENT:FALSE
SUMMARY:Main Stay Therapeutic Farm Volunteer Tour
DESCRIPTION:Are you interested\, or do you know someone who is interested in learning more about volunteering? Please join us for the 2023 Volunteer Tour & Info Session on Monday\, February 20th\, 4-5 pm. Come tour the farm\, watch a class\, see the animals and learn about available volunteer roles. Our programs rely on dedicated and caring volunteers! Experienced horse people are especially needed. RSVP by Thursday\, February 17th to reserve your spot. Please help us spread the word! Share with your friends! For more information\, contact the Volunteer Coordinator at vc@mainstayfarm.org or call / text 815-382-9374.
X-ALT-DESC;FMTTYPE=text/html:Are you interested\, or do you know someone who is interested in learning more about volunteering? Please join us for the 2023 Volunteer Tour &amp\; Info Session on Monday\, February 20th\, 4-5 pm. Come tour the farm\, watch a class\, see the animals and learn about available volunteer roles. Our programs rely on dedicated and caring volunteers! Experienced horse people are especially needed. RSVP by Thursday\, February 17th to reserve your spot. Please help us spread the word! Share with your friends! For more information\, contact the Volunteer Coordinator at vc@mainstayfarm.org or call / text 815-382-9374.
LOCATION:Main Stay Therapeutic Farm 6919 Keystone Road Richmond IL 60071
UID:e.2066.4975
SEQUENCE:3
DTSTAMP:20260419T223301Z
URL:https://dev.chainolakeschamber.com/events/details/main-stay-therapeutic-farm-volunteer-tour-4975
END:VEVENT

END:VCALENDAR
