BEGIN:VCALENDAR
VERSION:2.0
PRODID:-//ChamberMaster//Event Calendar 2.0//EN
METHOD:PUBLISH
X-PUBLISHED-TTL:P3D
REFRESH-INTERVAL:P3D
CALSCALE:GREGORIAN
BEGIN:VEVENT
DTSTART:20210707T150000Z
DTEND:20210707T180000Z
X-MICROSOFT-CDO-ALLDAYEVENT:FALSE
SUMMARY:Lunch On Us
DESCRIPTION:We are inviting new and existing patients to come by for lunch on us! Stop in for hotdogs and get information on becoming a patient\, scheduling an appointment\, and how to enter our raffle for a chance to win one of three great summer fun prizes!
X-ALT-DESC;FMTTYPE=text/html:We are inviting new and existing patients to come by for lunch on us! Stop in for hotdogs and get information on becoming a patient\, scheduling an appointment\, and how to enter our raffle for a chance to win one of three great summer fun prizes!
LOCATION:Fox Lake Dental Care 1402 South US HWY 12 Fox Lake\, IL 60020 (We are located in front of the Fox Lake Menards)
UID:e.2066.4068
SEQUENCE:3
DTSTAMP:20260423T111659Z
URL:https://dev.chainolakeschamber.com/events/details/lunch-on-us-4068
END:VEVENT

END:VCALENDAR
