BEGIN:VCALENDAR
VERSION:2.0
PRODID:-//ChamberMaster//Event Calendar 2.0//EN
METHOD:PUBLISH
X-PUBLISHED-TTL:P3D
REFRESH-INTERVAL:P3D
CALSCALE:GREGORIAN
BEGIN:VEVENT
DTSTART:20230524T163000Z
DTEND:20230524T180000Z
X-MICROSOFT-CDO-ALLDAYEVENT:FALSE
SUMMARY:Lunch 'N Learn - The Power of Positive Leadership
DESCRIPTION:Dennis Mellen is a speaker\, leadership consultant\, bestselling author\, and internationally recognized authority on leadership. A retired Air Force Lieutenant Colonel and 28-year airline Fleet Captain in charge of 550 pilots. You may have caught him on ABC\, NBC's Morning Blend Show\, CBS\, podcasts\, and radio. He recently spoke on stage at the United States Air Force Academy with four-time Olympian luge competitor\, Ruben Gonzalez\, and in Grand Rapids at the Leading Voice Summit.\nPower in Positive Leadership   The Ultimate K.P.I. to Fully Engage Your Team\n\nBreak free of the old leadership model and become a visionary servant leader. Inspire your team to perform at a level they never dreamed possible with the ultimate KPI (key performance indicator).\nConnect the culture to the vision through new competencies to build an elite team and turn on engagement to triple your profit.
X-ALT-DESC;FMTTYPE=text/html:<span style="color: rgb(0\, 0\, 0)\; font-family: &quot\;Times New Roman&quot\;\; font-size: medium\;">Dennis Mellen is a speaker\, leadership consultant\, bestselling author\, and internationally recognized authority on leadership. A retired Air Force Lieutenant Colonel and 28-year airline Fleet Captain in charge of 550 pilots. You may have caught him on ABC\, NBC&rsquo\;s Morning Blend Show\, CBS\, podcasts\, and radio. He recently spoke on stage at the United States Air Force Academy with four-time Olympian luge competitor\, Ruben Gonzalez\, and in Grand Rapids at the Leading Voice Summit.</span>\n<p style="color: rgb(0\, 0\, 0)\; font-family: &quot\;Times New Roman&quot\;\; font-size: medium\;">Power in Positive Leadership &ndash\; The Ultimate K.P.I. to Fully Engage Your Team</p>\n\n<p style="color: rgb(0\, 0\, 0)\; font-family: &quot\;Times New Roman&quot\;\; font-size: medium\;">Break free of the old leadership model and become a visionary servant leader. Inspire&nbsp\;your team to perform at a level they never dreamed possible with the ultimate KPI (key&nbsp\;performance indicator).</p>\n<span style="color: rgb(0\, 0\, 0)\; font-family: &quot\;Times New Roman&quot\;\; font-size: medium\;">Connect the culture to the vision through new competencies to build an elite team and turn on engagement to triple your profit.</span>
LOCATION:Chain O'Lakes Area Chamber of Commerce Office 10910 N. Main Street Richmond IL 60071
UID:e.2066.5128
SEQUENCE:3
DTSTAMP:20260419T185718Z
URL:https://dev.chainolakeschamber.com/events/details/lunch-n-learn-the-power-of-positive-leadership-5128
END:VEVENT

END:VCALENDAR
