BEGIN:VCALENDAR
VERSION:2.0
PRODID:-//ChamberMaster//Event Calendar 2.0//EN
METHOD:PUBLISH
X-PUBLISHED-TTL:P3D
REFRESH-INTERVAL:P3D
CALSCALE:GREGORIAN
BEGIN:VEVENT
DTSTART:20200128T173000Z
DTEND:20200128T190000Z
X-MICROSOFT-CDO-ALLDAYEVENT:FALSE
SUMMARY:Lunch N Learn at Diamond Deli and Wine
DESCRIPTION:Lunch 'N Learn\n\nEric Mason from Mobile Accounting will present the new tax laws
X-ALT-DESC;FMTTYPE=text/html:Lunch &#39\;N Learn<br />\n<span style="font-size:20px\;"><span style="font-family:verdana\;">Eric Mason from Mobile Accounting will present the new tax laws</span></span>
LOCATION:Diamond Deli and Wine 33 Rt 12 Fox Lake Please RSVP
UID:e.2066.3180
SEQUENCE:3
DTSTAMP:20260424T171825Z
URL:https://dev.chainolakeschamber.com/events/details/lunch-n-learn-at-diamond-deli-and-wine-3180
END:VEVENT

END:VCALENDAR
