BEGIN:VCALENDAR
VERSION:2.0
PRODID:-//ChamberMaster//Event Calendar 2.0//EN
METHOD:PUBLISH
X-PUBLISHED-TTL:P3D
REFRESH-INTERVAL:P3D
CALSCALE:GREGORIAN
BEGIN:VEVENT
DTSTART:20200225T173000Z
DTEND:20200225T190000Z
X-MICROSOFT-CDO-ALLDAYEVENT:FALSE
SUMMARY:Lunch N Learn at Camp Duncan YMCA
DESCRIPTION:Lunch 'N Learn\n\nState of the chamber and villages
X-ALT-DESC;FMTTYPE=text/html:Lunch &#39\;N Learn<br />\n<span style="font-size:20px\;"><span style="font-family:verdana\;">State of the chamber and villages</span></span>
LOCATION:Camp Duncan YMCA 32405 Rt 12 Ingleside Please RSVP
UID:e.2066.3181
SEQUENCE:3
DTSTAMP:20260424T155503Z
URL:https://dev.chainolakeschamber.com/events/details/lunch-n-learn-at-camp-duncan-ymca-3181
END:VEVENT

END:VCALENDAR
