BEGIN:VCALENDAR
VERSION:2.0
PRODID:-//ChamberMaster//Event Calendar 2.0//EN
METHOD:PUBLISH
X-PUBLISHED-TTL:P3D
REFRESH-INTERVAL:P3D
CALSCALE:GREGORIAN
BEGIN:VEVENT
DTSTART:20220615T170000Z
DTEND:20220615T190000Z
X-MICROSOFT-CDO-ALLDAYEVENT:FALSE
SUMMARY:Lunch & Learn with Marc Nielsen- Small Business Retirement
DESCRIPTION:Includes a limited menu lunch of a California Chicken Wrap\, Buffalo Chicken Panini\, or Avocado Toast with a specialty coffee from Richmond Cafe with a presentation on Small Business Retirement hosted by Marc Nielsen.
X-ALT-DESC;FMTTYPE=text/html:Includes a limited menu lunch of a California Chicken Wrap\, Buffalo Chicken Panini\, or Avocado Toast with a specialty coffee from Richmond Cafe with a presentation on Small Business Retirement hosted by Marc Nielsen.&nbsp\;&nbsp\;&nbsp\;&nbsp\;&nbsp\;&nbsp\;&nbsp\;&nbsp\;
LOCATION:Richmond Cafe at 10321 N. Main St. in Richmond\, IL
UID:e.2066.4534
SEQUENCE:3
DTSTAMP:20260422T190934Z
URL:https://dev.chainolakeschamber.com/events/details/lunch-learn-with-marc-nielsen-small-business-retirement-4534
END:VEVENT

END:VCALENDAR
