BEGIN:VCALENDAR
VERSION:2.0
PRODID:-//ChamberMaster//Event Calendar 2.0//EN
METHOD:PUBLISH
X-PUBLISHED-TTL:P3D
REFRESH-INTERVAL:P3D
CALSCALE:GREGORIAN
BEGIN:VEVENT
DTSTART:20230118T180000Z
DTEND:20230118T193000Z
X-MICROSOFT-CDO-ALLDAYEVENT:FALSE
SUMMARY:Lunch & Learn - The Community Foundation for McHenry County
DESCRIPTION:Whether you're a donor or a recipient\, learn the many different avenues The Community Foundation of McHenry County uses to connect people who care with causes that matter.\n\n \nOne lucky attendee at the upcoming Lunch & Learn will receive an introductory team building session at Main Stay. Harness the Power of Your Team\, a unique experiential learning opportunity partners Main Stay's facilitators and horses with your team inspiring them to play and work together on goals important to your organization.\n\nThe 1   hour session will be offered for up to 12 participants and must be scheduled by March 31st. All activities are unmounted so no riding experience is needed. Engaging with the animals creates powerful experiences as they live in the present moment and provide immediate and authentic feedback. This session is valued at $200. More information is available on the Main Stay website   https://mainstayfarm.org/.../harness-the-power-of-your-team\n\n\n\n\nWill be catered by Saylor Mick's Pizza!
X-ALT-DESC;FMTTYPE=text/html:Whether you&#39\;re a donor or a recipient\, learn the many different avenues The Community Foundation of McHenry County uses to connect people who care with causes that matter.<br />\n&nbsp\;\n<div class="x11i5rnm xat24cr x1mh8g0r x1vvkbs xtlvy1s" style="margin: 0.5em 0px 0px\; overflow-wrap: break-word\; font-family: &quot\;Segoe UI Historic&quot\;\, &quot\;Segoe UI&quot\;\, Helvetica\, Arial\, sans-serif\; color: rgb(5\, 5\, 5)\; font-size: 15px\;">One lucky attendee at the upcoming Lunch &amp\; Learn will receive an introductory team building session at Main Stay. Harness the Power of Your Team\, a unique experiential learning opportunity partners Main Stay&rsquo\;s facilitators and horses with your team inspiring them to play and work together on goals important to your organization.</div>\n\n<div class="x11i5rnm xat24cr x1mh8g0r x1vvkbs xtlvy1s" style="margin: 0.5em 0px 0px\; overflow-wrap: break-word\; font-family: &quot\;Segoe UI Historic&quot\;\, &quot\;Segoe UI&quot\;\, Helvetica\, Arial\, sans-serif\; color: rgb(5\, 5\, 5)\; font-size: 15px\;">The 1 &frac12\; hour session will be offered for up to 12 participants and must be scheduled by March 31st. All activities are unmounted so no riding experience is needed. Engaging with the animals creates powerful experiences as they live in the present moment and provide immediate and authentic feedback. This session is valued at $200. More information is available on the Main Stay website &ndash\;&nbsp\;<a class="x1i10hfl xjbqb8w x6umtig x1b1mbwd xaqea5y xav7gou x9f619 x1ypdohk xt0psk2 xe8uvvx xdj266r x11i5rnm xat24cr x1mh8g0r xexx8yu x4uap5 x18d9i69 xkhd6sd x16tdsg8 x1hl2dhg xggy1nq x1a2a7pz xt0b8zv x1fey0fg" href="https://mainstayfarm.org/programs/harness-the-power-of-your-team?fbclid=IwAR3-NeahZxkj13I9uzlGqYSSi0tspJj6HHeQxEKTfT-rDXj8zXHI7bvHk7k" rel="nofollow noopener" role="link" style="color: var(--blue-link)\; cursor: pointer\; text-decoration-line: none\; margin: 0px\; text-align: inherit\; padding: 0px\; outline: none\; border-width: 0px\; border-style: initial\; border-color: initial\; -webkit-tap-highlight-color: transparent\; box-sizing: border-box\; list-style: none\; touch-action: manipulation\; background-color: transparent\; display: inline\; font-family: inherit\;" tabindex="0" target="_blank">https://mainstayfarm.org/.../harness-the-power-of-your-team</a></div>\n<br />\n<br />\nWill be catered by Saylor Mick&#39\;s Pizza!
LOCATION:Main Stay Therapeutic Farm 6919 Keystone Road Richmond IL 60071
UID:e.2066.4579
SEQUENCE:3
DTSTAMP:20260420T001810Z
URL:https://dev.chainolakeschamber.com/events/details/lunch-learn-the-community-foundation-for-mchenry-county-4579
END:VEVENT

END:VCALENDAR
