BEGIN:VCALENDAR
VERSION:2.0
PRODID:-//ChamberMaster//Event Calendar 2.0//EN
METHOD:PUBLISH
X-PUBLISHED-TTL:P3D
REFRESH-INTERVAL:P3D
CALSCALE:GREGORIAN
BEGIN:VEVENT
DTSTART:20221027T163000Z
DTEND:20221027T180000Z
X-MICROSOFT-CDO-ALLDAYEVENT:FALSE
SUMMARY:Lunch & Learn - Successful Non-Profit Fundraising Strategies
DESCRIPTION:Save-A-Pet is celebrating a HUGE milestone with it's 50 Year Anniversary!\n\nJoin us to learn how this non-profit has successfully executed fundraising strategies to keep their momentum strong and save pets.
X-ALT-DESC;FMTTYPE=text/html:Save-A-Pet is celebrating a HUGE milestone with it&#39\;s 50 Year Anniversary!<br />\nJoin us to learn how this non-profit has successfully executed fundraising strategies to keep their momentum strong and save pets.&nbsp\; &nbsp\; &nbsp\; &nbsp\; &nbsp\; &nbsp\; &nbsp\; &nbsp\;&nbsp\;
LOCATION:TBD
UID:e.2066.4578
SEQUENCE:3
DTSTAMP:20260422T105750Z
URL:https://dev.chainolakeschamber.com/events/details/lunch-learn-successful-non-profit-fundraising-strategies-4578
END:VEVENT

END:VCALENDAR
