BEGIN:VCALENDAR
VERSION:2.0
PRODID:-//ChamberMaster//Event Calendar 2.0//EN
METHOD:PUBLISH
X-PUBLISHED-TTL:P3D
REFRESH-INTERVAL:P3D
CALSCALE:GREGORIAN
BEGIN:VEVENT
DTSTART:20211013T163000Z
DTEND:20211013T180000Z
X-MICROSOFT-CDO-ALLDAYEVENT:FALSE
SUMMARY:Lunch & Learn Rescheduled
DESCRIPTION:State Senator Craig Wilcox and State Representative Tom Weber
X-ALT-DESC;FMTTYPE=text/html:State Senator Craig Wilcox and State Representative Tom Weber
LOCATION:Dockers Restaurant Upstairs room
UID:e.2066.4152
SEQUENCE:3
DTSTAMP:20260423T082844Z
URL:https://dev.chainolakeschamber.com/events/details/lunch-learn-rescheduled-4152
END:VEVENT

END:VCALENDAR
