BEGIN:VCALENDAR
VERSION:2.0
PRODID:-//ChamberMaster//Event Calendar 2.0//EN
METHOD:PUBLISH
X-PUBLISHED-TTL:P3D
REFRESH-INTERVAL:P3D
CALSCALE:GREGORIAN
BEGIN:VEVENT
DTSTART:20180510T170000Z
DTEND:20180510T180000Z
X-MICROSOFT-CDO-ALLDAYEVENT:FALSE
SUMMARY:Lunch and Learn @ Twin Lakes Counrty Club
DESCRIPTION:This lunch is just for staff.\n\n\n\nOffice managers and admins have a unique set of challenges that only other support staff can understand.  Come to this meeting to be heard and learn how to mange the challenging to mundane AND everyday tasks.
X-ALT-DESC;FMTTYPE=text/html:This lunch is just for staff.<br />\n<br />\nOffice managers and admins have a unique set of challenges that only other support staff can understand.&nbsp\; Come to this meeting to be heard and learn how to mange the challenging to mundane AND everyday tasks.&nbsp\;<br />\n<br />\n<br />\n&nbsp\;
LOCATION:Twin Lake County Club 1230 Legions Dr Twin Lakes WI
UID:e.2066.1096
SEQUENCE:3
DTSTAMP:20260425T234656Z
URL:https://dev.chainolakeschamber.com/events/details/lunch-and-learn-twin-lakes-counrty-club-1096
END:VEVENT

END:VCALENDAR
