BEGIN:VCALENDAR
VERSION:2.0
PRODID:-//ChamberMaster//Event Calendar 2.0//EN
METHOD:PUBLISH
X-PUBLISHED-TTL:P3D
REFRESH-INTERVAL:P3D
CALSCALE:GREGORIAN
BEGIN:VEVENT
DTSTART:20180618T170000Z
DTEND:20180618T180000Z
X-MICROSOFT-CDO-ALLDAYEVENT:FALSE
SUMMARY:Lunch and Learn @ International House of Wine and Cheese
DESCRIPTION:Lunch and Learn \n\n\n\nHere are the lunch choices for the Lunch & Learn on June 18. \n\n	Grilled Chicken Breast\, rice and vegetable medley\n	Marinara Sauce with meatballs\n	Grilled pork chop\, rice and vegetable medley. \n\n \n\nAll served with a dinner roll and garden salad. \n\n\n\n\n\nNetwork
X-ALT-DESC;FMTTYPE=text/html:Lunch and Learn&nbsp\;<br />\n<br />\nHere are the lunch choices for the Lunch &amp\; Learn on June 18.&nbsp\;\n<ul>\n	<li>Grilled Chicken Breast\, rice and vegetable medley</li>\n	<li>Marinara Sauce with meatballs</li>\n	<li>Grilled pork chop\, rice and vegetable medley.&nbsp\;</li>\n</ul>\n&nbsp\;<br />\nAll served with a dinner roll and garden salad.&nbsp\;<br />\n<br />\n<br />\nNetwork
LOCATION:International House of Wine and Cheese 11302 Rt 12\, Richmond IL
UID:e.2066.1097
SEQUENCE:3
DTSTAMP:20260425T234835Z
URL:https://dev.chainolakeschamber.com/events/details/lunch-and-learn-international-house-of-wine-and-cheese-1097
END:VEVENT

END:VCALENDAR
