BEGIN:VCALENDAR
VERSION:2.0
PRODID:-//ChamberMaster//Event Calendar 2.0//EN
METHOD:PUBLISH
X-PUBLISHED-TTL:P3D
REFRESH-INTERVAL:P3D
CALSCALE:GREGORIAN
BEGIN:VEVENT
DTSTART:20180422T000000Z
DTEND:20180422T040000Z
X-MICROSOFT-CDO-ALLDAYEVENT:FALSE
SUMMARY:Lucky Bernie's - Spring Grove Comedy Show
DESCRIPTION:Headliner: Johnny Watson. The funnyman from New Jersey has performed superbly and consistently as a headliner at clubs and colleges throughout the world and has even garnered the respect of top moguls in the Hollywood scene. Johnny Watson is the "Nice guy" comedian who can play anywhere and under any circumstance.  \n\n \n\nCredits: Netflix\, Comedy Central\, and Fox\n\n\n\n\n\nAlso appearing T.M. Francis He's  has toured all over the country and featured for TJ Miller and Dave Coulier. He is a regular in comedy clubs.  His comedy is odd\, quirky\, and intellectually twisted. His perspective on daily events and his myriad of life experiences make you wonder if he is "not quite right." There is something funny about the man...in both senses of the word
X-ALT-DESC;FMTTYPE=text/html:<br />\nHeadliner: Johnny Watson. The funnyman from New Jersey has performed superbly and consistently as a headliner at clubs and colleges throughout the world and has even garnered the respect of top moguls in the Hollywood scene. Johnny Watson is the &ldquo\;Nice guy&rdquo\; comedian who can play anywhere and under any circumstance. &nbsp\;<br />\n&nbsp\;<br />\nCredits: Netflix\, Comedy Central\, and Fox<br />\n<br />\n<br />\nAlso appearing T.M. Francis He&rsquo\;s&nbsp\; has toured all over the country and featured for TJ Miller and Dave Coulier. He is a regular in comedy clubs.&nbsp\; His comedy is odd\, quirky\, and intellectually twisted. His perspective on daily events and his myriad of life experiences make you wonder if he is &quot\;not quite right.&quot\; There is something funny about the man...in both senses of the word
LOCATION:Lucky Bernie's - Spring Grove 2450 N Route 12 Spring Grove IL 815-581-3217
UID:e.2066.935
SEQUENCE:3
DTSTAMP:20260426T013018Z
URL:https://dev.chainolakeschamber.com/events/details/lucky-bernie-s-spring-grove-comedy-show-935
END:VEVENT

END:VCALENDAR
