BEGIN:VCALENDAR
VERSION:2.0
PRODID:-//ChamberMaster//Event Calendar 2.0//EN
METHOD:PUBLISH
X-PUBLISHED-TTL:P3D
REFRESH-INTERVAL:P3D
CALSCALE:GREGORIAN
BEGIN:VEVENT
DTSTART:20210228T010000Z
DTEND:20210228T040000Z
X-MICROSOFT-CDO-ALLDAYEVENT:FALSE
SUMMARY:Lucky Bernie's - Spring Grove Comedy Show
DESCRIPTION:Laugh the night away at Lucky Bernie's Spring Grove\n\nComedy Night\n\nWith Anthony Fuentes
X-ALT-DESC;FMTTYPE=text/html:Laugh the night away at Lucky Bernie&#39\;s Spring Grove<br />\nComedy Night<br />\n<strong><span style="font-size:14px\;">With Anthony Fuentes</span></strong>
LOCATION:Lucky Bernie's 2450 US Route 12 Spring Grove IL
UID:e.2066.3710
SEQUENCE:3
DTSTAMP:20260423T193501Z
URL:https://dev.chainolakeschamber.com/events/details/lucky-bernie-s-spring-grove-comedy-show-3710
END:VEVENT

END:VCALENDAR
