BEGIN:VCALENDAR
VERSION:2.0
PRODID:-//ChamberMaster//Event Calendar 2.0//EN
METHOD:PUBLISH
X-PUBLISHED-TTL:P3D
REFRESH-INTERVAL:P3D
CALSCALE:GREGORIAN
BEGIN:VEVENT
DTSTART:20180617T000000Z
DTEND:20180617T030000Z
X-MICROSOFT-CDO-ALLDAYEVENT:FALSE
SUMMARY:Lucky Bernie's- Spring Grove Comedy Show
DESCRIPTION:Headliner-- Ken Evans\n\nBringing a boy-next-door        persona to the stage\, Ken has an observational style of comedy that relates to every audience member.  His energy is electric and his act is very visual\,           bringing his comedy to life with his command of the stage.      Evans has appeared on NBC's "Ed"\, Caroline's Comedy Hour\, and Last Comic Standing.  He's been a studio guest of the Bob and Tom show and XM Radio.  He's opened for and worked with some of the biggest names in entertainment such as:  Joan Rivers\, Tim Allen\, Ellen DeGeneres\, Larry the Cable Guy\, Ron White\, Weird Al\, & Drew Carey.\n\n\n\nAlso appearing-- Pate Daniels\n\nOver the last 7 years\, Peter has been working the major comedy clubs throughout the US.  He has a laid-back style that quickly connects with his audiences. He talks about           everyday problems that we all        experience like\; Child rearing\,          relationship issues\, and dealing with dysfunctional in-laws
X-ALT-DESC;FMTTYPE=text/html:Headliner-- Ken Evans<br />\nBringing a boy-next-door&nbsp\;&nbsp\;&nbsp\;&nbsp\;&nbsp\;&nbsp\;&nbsp\; persona to the stage\, Ken has an observational style of comedy that relates to every audience member.&nbsp\; His energy is electric and his act is very visual\,&nbsp\;&nbsp\;&nbsp\;&nbsp\;&nbsp\;&nbsp\;&nbsp\;&nbsp\;&nbsp\;&nbsp\; bringing his comedy to life with his command of the stage.&nbsp\;&nbsp\;&nbsp\;&nbsp\;&nbsp\; Evans has appeared on NBC&rsquo\;s &ldquo\;Ed&rdquo\;\, Caroline&rsquo\;s Comedy Hour\, and Last Comic Standing.&nbsp\; He&rsquo\;s been a studio guest of the Bob and Tom show and XM Radio.&nbsp\; He&rsquo\;s opened for and worked with some of the biggest names in entertainment such as:&nbsp\; Joan Rivers\, Tim Allen\, Ellen DeGeneres\, Larry the Cable Guy\, Ron White\, Weird Al\, &amp\; Drew Carey.<br />\n<br />\nAlso appearing-- Pate Daniels<br />\nOver the last 7 years\, Peter has been working the major comedy clubs throughout the US.&nbsp\; He has a laid-back style that quickly connects with his audiences. He talks about&nbsp\;&nbsp\;&nbsp\;&nbsp\;&nbsp\;&nbsp\;&nbsp\;&nbsp\;&nbsp\;&nbsp\; everyday problems that we all&nbsp\;&nbsp\;&nbsp\;&nbsp\;&nbsp\;&nbsp\;&nbsp\; experience like\; Child rearing\,&nbsp\;&nbsp\;&nbsp\;&nbsp\;&nbsp\;&nbsp\;&nbsp\;&nbsp\;&nbsp\; relationship issues\, and dealing with dysfunctional in-laws<br />\n&nbsp\;
LOCATION:Lucky Bernie's - Spring Grove 2450 N Route 12 Spring Grove IL 815-581-3217
UID:e.2066.1110
SEQUENCE:3
DTSTAMP:20260425T221924Z
URL:https://dev.chainolakeschamber.com/events/details/lucky-bernie-s-spring-grove-comedy-show-1110
END:VEVENT

END:VCALENDAR
