BEGIN:VCALENDAR
VERSION:2.0
PRODID:-//ChamberMaster//Event Calendar 2.0//EN
METHOD:PUBLISH
X-PUBLISHED-TTL:P3D
REFRESH-INTERVAL:P3D
CALSCALE:GREGORIAN
BEGIN:VEVENT
DTSTART:20180520T000000Z
DTEND:20180520T040000Z
X-MICROSOFT-CDO-ALLDAYEVENT:FALSE
SUMMARY:Lucky Bernie's - Spring Grove Comedy Show
DESCRIPTION:Headliner: Bryan Cork Laughter is the best medicine. Bryan has been doing his special form of healing for almost twenty years now. This strange and unusual journey started for Bryan as an actor. For a dozen years he did appearances as the Amazing Spider-Man for Marvel Comics. But alas\, the demands of wearing spandex eventually took it's toll. (You try wearing spandex when you are 35 and see how you look.) So his career took a new direction. A comedy door opened up\, and Bryan crashed through it like he was running from the police.\n\n\n\nAlso appearing Katie Meiners Katie is a Chicago comedian making a name for herself in a short time on the scene.  Her observational humor and     wicked punchlines make her a crowd favorite!
X-ALT-DESC;FMTTYPE=text/html:<br />\nHeadliner: Bryan Cork Laughter is the best medicine. Bryan has been doing his special form of healing for almost twenty years now. This strange and unusual journey started for Bryan as an actor. For a dozen years he did appearances as the Amazing Spider-Man for Marvel Comics. But alas\, the demands of wearing spandex eventually took it&rsquo\;s toll. (You try wearing spandex when you are 35 and see how you look.) So his career took a new direction. A comedy door opened up\, and Bryan crashed through it like he was running from the police.<br />\n<br />\nAlso appearing Katie Meiners Katie is a Chicago comedian making a name for herself in a short time on the scene.&nbsp\; Her observational humor and&nbsp\;&nbsp\;&nbsp\;&nbsp\; wicked punchlines make her a crowd favorite!
LOCATION:Lucky Bernie's - Spring Grove 2450 N Route 12 Spring Grove IL 815-581-3217
UID:e.2066.1104
SEQUENCE:3
DTSTAMP:20260425T234543Z
URL:https://dev.chainolakeschamber.com/events/details/lucky-bernie-s-spring-grove-comedy-show-1104
END:VEVENT

END:VCALENDAR
