BEGIN:VCALENDAR
VERSION:2.0
PRODID:-//ChamberMaster//Event Calendar 2.0//EN
METHOD:PUBLISH
X-PUBLISHED-TTL:P3D
REFRESH-INTERVAL:P3D
CALSCALE:GREGORIAN
BEGIN:VEVENT
DTSTART:20180930T170000Z
DTEND:20181001T000000Z
X-MICROSOFT-CDO-ALLDAYEVENT:FALSE
SUMMARY:Lucky Bernie's Relay for Life Music Festival and Charity Event
DESCRIPTION:Music Festival and Cancer Awareness
X-ALT-DESC;FMTTYPE=text/html:<span style="font-size:24px\;"><strong>Music Festival and Cancer Awareness</strong></span>
LOCATION:Lucky Bernie's Spring Grove 2450 US Route 12 Spring Grove IL 50/50 Raffle Face Painting Henna tattoos Silent Auction Popcorn Machine Wine Tasting Boarshead Brats and hotdogs Life Size Jenga & Connect 4
UID:e.2066.1195
SEQUENCE:3
DTSTAMP:20260425T193900Z
URL:https://dev.chainolakeschamber.com/events/details/lucky-bernie-s-relay-for-life-music-festival-and-charity-event-1195
END:VEVENT

END:VCALENDAR
