BEGIN:VCALENDAR
VERSION:2.0
PRODID:-//ChamberMaster//Event Calendar 2.0//EN
METHOD:PUBLISH
X-PUBLISHED-TTL:P3D
REFRESH-INTERVAL:P3D
CALSCALE:GREGORIAN
BEGIN:VEVENT
DTSTART:20190629T190000Z
DTEND:20190629T210000Z
X-MICROSOFT-CDO-ALLDAYEVENT:FALSE
SUMMARY:Luau at The Cottages of Fox Lake
DESCRIPTION:Join us to experience the islands of Hawaii with a show from\n\nHokuel~a\n\nHula and Tahitioan Dancers\n\nSamoan Fire Knife Dancers
X-ALT-DESC;FMTTYPE=text/html:Join us to experience the islands of Hawaii with a show from<br />\nHokuel~a<br />\nHula and Tahitioan Dancers<br />\nSamoan Fire Knife Dancers
LOCATION:The Cottages of Fox Lake
UID:e.2066.2961
SEQUENCE:3
DTSTAMP:20260425T040339Z
URL:https://dev.chainolakeschamber.com/events/details/luau-at-the-cottages-of-fox-lake-2961
END:VEVENT

END:VCALENDAR
