BEGIN:VCALENDAR
VERSION:2.0
PRODID:-//ChamberMaster//Event Calendar 2.0//EN
METHOD:PUBLISH
X-PUBLISHED-TTL:P3D
REFRESH-INTERVAL:P3D
CALSCALE:GREGORIAN
BEGIN:VEVENT
DTSTART:20230807T233000Z
DTEND:20230808T003000Z
X-MICROSOFT-CDO-ALLDAYEVENT:FALSE
SUMMARY:Living Water Home Educators at LifeSpring Comm Church
DESCRIPTION:Join Living Water Home Educators at LifeSpring Community Church for a new Homeschool Support Group informational meeting.
X-ALT-DESC;FMTTYPE=text/html:Join Living Water Home Educators at LifeSpring Community Church for a new Homeschool Support Group informational meeting.
LOCATION:LifeSpring Community Church 1154 IL-173 Spring Grove\, IL
UID:e.2066.5321
SEQUENCE:3
DTSTAMP:20260419T121948Z
URL:https://dev.chainolakeschamber.com/events/details/living-water-home-educators-at-lifespring-comm-church-5321
END:VEVENT

END:VCALENDAR
