BEGIN:VCALENDAR
VERSION:2.0
PRODID:-//ChamberMaster//Event Calendar 2.0//EN
METHOD:PUBLISH
X-PUBLISHED-TTL:P3D
REFRESH-INTERVAL:P3D
CALSCALE:GREGORIAN
BEGIN:VEVENT
DTSTART:20230324T180000Z
DTEND:20230324T190000Z
X-MICROSOFT-CDO-ALLDAYEVENT:FALSE
SUMMARY:Linking and Consolidating Data in Excel Workbooks
DESCRIPTION:This 1-hour virtual workshop is part of our Virtual Power Course series. Cathy will teach you how to consolidate and link your Excel data to combine information from multiple workbooks and worksheets. Get the big picture of your data! Topics include:   Creating Linked Cells   Grouping Worksheets   Understanding 3-D References   Using 3-D References in Summary Functions   Naming Cells   Creating External Reference Formulas   Editing Links   Consolidating Data
X-ALT-DESC;FMTTYPE=text/html:This 1-hour virtual workshop is part of our Virtual Power Course series. Cathy will teach you how to consolidate and link your Excel data to combine information from multiple workbooks and worksheets. Get the big picture of your data! Topics include: &bull\; Creating Linked Cells &bull\; Grouping Worksheets &bull\; Understanding 3-D References &bull\; Using 3-D References in Summary Functions &bull\; Naming Cells &bull\; Creating External Reference Formulas &bull\; Editing Links &bull\; Consolidating Data
LOCATION:Live Zoom
UID:e.2066.4929
SEQUENCE:3
DTSTAMP:20260419T203320Z
URL:https://dev.chainolakeschamber.com/events/details/linking-and-consolidating-data-in-excel-workbooks-4929
END:VEVENT

END:VCALENDAR
