BEGIN:VCALENDAR
VERSION:2.0
PRODID:-//ChamberMaster//Event Calendar 2.0//EN
METHOD:PUBLISH
X-PUBLISHED-TTL:P3D
REFRESH-INTERVAL:P3D
CALSCALE:GREGORIAN
BEGIN:VEVENT
DTSTART:20190224T050000Z
DTEND:20190223T230000Z
X-MICROSOFT-CDO-ALLDAYEVENT:FALSE
SUMMARY:Link O'Chain Cyclery Ribbon Cutting
DESCRIPTION:Grand Opening\n\n\n\nRibbon Cutting\n\n\n\nChili Cook Off
X-ALT-DESC;FMTTYPE=text/html:<span style="font-family:comic sans ms\;"><span style="font-size:28px\;">Grand Opening<br />\n<br />\nRibbon Cutting<br />\n<br />\nChili Cook Off</span></span>
LOCATION:11 E Grand Ave Fox Lake IL
UID:e.2066.2187
SEQUENCE:3
DTSTAMP:20260425T115709Z
URL:https://dev.chainolakeschamber.com/events/details/link-o-chain-cyclery-ribbon-cutting-2187
END:VEVENT

END:VCALENDAR
