BEGIN:VCALENDAR
VERSION:2.0
PRODID:-//ChamberMaster//Event Calendar 2.0//EN
METHOD:PUBLISH
X-PUBLISHED-TTL:P3D
REFRESH-INTERVAL:P3D
CALSCALE:GREGORIAN
BEGIN:VEVENT
DTSTART:20221002T150000Z
DTEND:20221002T180000Z
X-MICROSOFT-CDO-ALLDAYEVENT:FALSE
SUMMARY:LifeSpring Community Church Grand Opening and Ribbon Cutting
DESCRIPTION:Blessed in Community! You're invited to the Grand Opening of LifeSpring Community Church! \n\nBring your family and friends too\, this is an event for the whole community!
X-ALT-DESC;FMTTYPE=text/html:Blessed in Community! You&#39\;re invited to the Grand Opening of LifeSpring Community Church!&nbsp\;<br />\nBring your family and friends too\, this is an event for the whole community!
LOCATION:1154 Route 173\, Spring Grove\, IL
UID:e.2066.4598
SEQUENCE:3
DTSTAMP:20260422T110047Z
URL:https://dev.chainolakeschamber.com/events/details/lifespring-community-church-grand-opening-and-ribbon-cutting-4598
END:VEVENT

END:VCALENDAR
