BEGIN:VCALENDAR
VERSION:2.0
PRODID:-//ChamberMaster//Event Calendar 2.0//EN
METHOD:PUBLISH
X-PUBLISHED-TTL:P3D
REFRESH-INTERVAL:P3D
CALSCALE:GREGORIAN
BEGIN:VEVENT
DTSTART:20230923T160000Z
DTEND:20230923T180000Z
X-MICROSOFT-CDO-ALLDAYEVENT:FALSE
SUMMARY:LifeSpring Comm Church Taco Fest!
DESCRIPTION:After the church service on July 23rd\, we invite you and your loved ones to join us outside the church premises for a memorable hangout. The atmosphere will be abuzz with laughter\, conversations\, and the mouthwatering aromas of tacos cooked to perfection by Chef Abel Rosas\, a renowned culinary expert hailing from Oaxaca\, Mexico\, and owner of Elena Catering. Abel's tacos are legendary\, and he has graciously agreed to offer his delectable creations exclusively to our congregation. You will have the opportunity to savor both chicken and steak tacos\, meticulously crafted with authentic flavors and ingredients that pay homage to the vibrant culinary traditions of Oaxaca.\n\nDetails: Tacos offered: Chicken and steak
X-ALT-DESC;FMTTYPE=text/html:<span style="color: rgb(5\, 5\, 5)\; font-family: &quot\;Segoe UI Historic&quot\;\, &quot\;Segoe UI&quot\;\, Helvetica\, Arial\, sans-serif\; font-size: 15px\;">After the church service on July 23rd\, we invite you and your loved ones to join us outside the church premises for a memorable hangout. The atmosphere will be abuzz with laughter\, conversations\, and the mouthwatering aromas of tacos cooked to perfection by Chef Abel Rosas\, a renowned culinary expert hailing from Oaxaca\, Mexico\, and owner of Elena Catering. Abel&rsquo\;s tacos are legendary\, and he has graciously agreed to offer his delectable creations exclusively to our congregation. You will have the opportunity to savor both chicken and steak tacos\, meticulously crafted with authentic flavors and ingredients that pay homage to the vibrant culinary traditions of Oaxaca.</span><br style="color: rgb(5\, 5\, 5)\; font-family: &quot\;Segoe UI Historic&quot\;\, &quot\;Segoe UI&quot\;\, Helvetica\, Arial\, sans-serif\; font-size: 15px\;" />\n<span style="color: rgb(5\, 5\, 5)\; font-family: &quot\;Segoe UI Historic&quot\;\, &quot\;Segoe UI&quot\;\, Helvetica\, Arial\, sans-serif\; font-size: 15px\;">Details: Tacos offered: Chicken and steak</span>
LOCATION:LifeSpring Community Church 1154 Route 173 Spring Grove IL 60081
UID:e.2066.5314
SEQUENCE:3
DTSTAMP:20260419T142936Z
URL:https://dev.chainolakeschamber.com/events/details/lifespring-comm-church-taco-fest-5314
END:VEVENT

END:VCALENDAR
