BEGIN:VCALENDAR
VERSION:2.0
PRODID:-//ChamberMaster//Event Calendar 2.0//EN
METHOD:PUBLISH
X-PUBLISHED-TTL:P3D
REFRESH-INTERVAL:P3D
CALSCALE:GREGORIAN
BEGIN:VEVENT
DTSTART:20230806T161500Z
DTEND:20230806T180000Z
X-MICROSOFT-CDO-ALLDAYEVENT:FALSE
SUMMARY:LifeSpring Church Back to Sunday School Picnic
DESCRIPTION:Back to Sunday School Picnic on August 6th following the service!  We'll be celebrating the end of the Dog Days of Summer! Look forward to Sunday School for those 3 years   5th grade\, a doggone delicious lunch\, a Police Dog Presentation\, bounce house and more!  It plans to be a Paw-Some time\, plan to Come\, Sit\, Stay!
X-ALT-DESC;FMTTYPE=text/html:<span style="color: rgb(101\, 101\, 101)\; font-family: &quot\;Noto Sans&quot\;\, &quot\;sans-serif&quot\;\; font-size: 14px\; background-color: rgb(243\, 243\, 243)\;">Back to&nbsp\;</span><strong style="box-sizing: border-box\; margin: 0px\; padding: 0px\; border: 0px\; outline: 0px\; font-size: 14px\; text-size-adjust: 100%\; vertical-align: baseline\; background: rgb(243\, 243\, 243)\; color: rgb(101\, 101\, 101)\; font-family: &quot\;Noto Sans&quot\;\, &quot\;sans-serif&quot\;\;">Sunday School Picnic</strong><span style="color: rgb(101\, 101\, 101)\; font-family: &quot\;Noto Sans&quot\;\, &quot\;sans-serif&quot\;\; font-size: 14px\; background-color: rgb(243\, 243\, 243)\;">&nbsp\;on August&nbsp\;6th following the service!&nbsp\; We&rsquo\;ll be celebrating the end of the&nbsp\;</span><strong style="box-sizing: border-box\; margin: 0px\; padding: 0px\; border: 0px\; outline: 0px\; font-size: 14px\; text-size-adjust: 100%\; vertical-align: baseline\; background: rgb(243\, 243\, 243)\; color: rgb(101\, 101\, 101)\; font-family: &quot\;Noto Sans&quot\;\, &quot\;sans-serif&quot\;\;">Dog Days of Summer</strong><span style="color: rgb(101\, 101\, 101)\; font-family: &quot\;Noto Sans&quot\;\, &quot\;sans-serif&quot\;\; font-size: 14px\; background-color: rgb(243\, 243\, 243)\;">! Look forward to Sunday School for those 3 years &ndash\; 5th grade\, a doggone delicious lunch\, a Police Dog Presentation\, bounce house and more!&nbsp\; It plans to be a Paw-Some time\, plan to Come\, Sit\, Stay!</span>
LOCATION:LifeSpring Community Church 1154 Rt. 173 Spring Grove\, IL
UID:e.2066.5363
SEQUENCE:3
DTSTAMP:20260419T122124Z
URL:https://dev.chainolakeschamber.com/events/details/lifespring-church-back-to-sunday-school-picnic-5363
END:VEVENT

END:VCALENDAR
