BEGIN:VCALENDAR
VERSION:2.0
PRODID:-//ChamberMaster//Event Calendar 2.0//EN
METHOD:PUBLISH
X-PUBLISHED-TTL:P3D
REFRESH-INTERVAL:P3D
CALSCALE:GREGORIAN
BEGIN:VEVENT
DTSTART:20230518T230000Z
DTEND:20230519T000000Z
X-MICROSOFT-CDO-ALLDAYEVENT:FALSE
SUMMARY:LevelUP Young Professional Ax Throwing Night Out!
DESCRIPTION:Bring your best swing to the next LevelUP Young Professionals night out at Twisted Limits!\n\nEach player pays a discounted price at the door\, beverages will also be available for purchase.\n\nCome out to meet new friends and have a great time!
X-ALT-DESC;FMTTYPE=text/html:Bring your best swing to the next LevelUP Young Professionals night out at Twisted Limits!<br />\nEach player pays a discounted price at the door\, beverages will also be available for purchase.<br />\nCome out to meet new friends and have a great time!<br />\n&nbsp\;
LOCATION:Twisted Limits 1722 N. Richmond Rd McHenry IL 60050
UID:e.2066.5086
SEQUENCE:3
DTSTAMP:20260419T185351Z
URL:https://dev.chainolakeschamber.com/events/details/levelup-young-professional-ax-throwing-night-out-5086
END:VEVENT

END:VCALENDAR
