BEGIN:VCALENDAR
VERSION:2.0
PRODID:-//ChamberMaster//Event Calendar 2.0//EN
METHOD:PUBLISH
X-PUBLISHED-TTL:P3D
REFRESH-INTERVAL:P3D
CALSCALE:GREGORIAN
BEGIN:VEVENT
DTSTART:20230323T230000Z
DTEND:20230324T010000Z
X-MICROSOFT-CDO-ALLDAYEVENT:FALSE
SUMMARY:LevelUP Trivia Game Night!
DESCRIPTION:Calling all Young Professionals!\n\nJoin us for the next LevelUP with Trivia Game Night at the Richmond Cafe for a fun-packed evening!\n\nFood and Beverages will be served.
X-ALT-DESC;FMTTYPE=text/html:Calling all Young Professionals!<br />\nJoin us for the next LevelUP with Trivia Game Night at the Richmond Cafe for a fun-packed evening!<br />\nFood and Beverages will be served.&nbsp\;&nbsp\;&nbsp\;&nbsp\;&nbsp\;&nbsp\;&nbsp\;&nbsp\;&nbsp\;&nbsp\;&nbsp\;&nbsp\;
LOCATION:Richmond Cafe 10321 N. Main Street Richmond IL 60071
UID:e.2066.5001
SEQUENCE:3
DTSTAMP:20260419T203234Z
URL:https://dev.chainolakeschamber.com/events/details/levelup-trivia-game-night-5001
END:VEVENT

END:VCALENDAR
