BEGIN:VCALENDAR
VERSION:2.0
PRODID:-//ChamberMaster//Event Calendar 2.0//EN
METHOD:PUBLISH
X-PUBLISHED-TTL:P3D
REFRESH-INTERVAL:P3D
CALSCALE:GREGORIAN
BEGIN:VEVENT
DTSTART:20230817T230000Z
DTEND:20230818T010000Z
X-MICROSOFT-CDO-ALLDAYEVENT:FALSE
SUMMARY:LevelUP Cosmic Bowling at Raymond's Bowl
DESCRIPTION:Hey LevelUP Young Professionals! Your next event is Cosmic Bowling at Raymond's Bowl in Johnsburg. Come out to meet new friends and have some fun!\n\n$10 per player payable at the venue.\n\nPlease RSVP here!
X-ALT-DESC;FMTTYPE=text/html:Hey LevelUP Young Professionals! Your next event is Cosmic Bowling at Raymond&#39\;s Bowl in Johnsburg. Come out to meet new friends and have some fun!<br />\n$10 per player payable at the venue.<br />\nPlease RSVP here!
LOCATION:Raymond's Bowl 3960 Johnsburg Road Johnsburg\, IL 60051
UID:e.2066.5261
SEQUENCE:3
DTSTAMP:20260419T121335Z
URL:https://dev.chainolakeschamber.com/events/details/levelup-cosmic-bowling-at-raymond-s-bowl-5261
END:VEVENT

END:VCALENDAR
