BEGIN:VCALENDAR
VERSION:2.0
PRODID:-//ChamberMaster//Event Calendar 2.0//EN
METHOD:PUBLISH
X-PUBLISHED-TTL:P3D
REFRESH-INTERVAL:P3D
CALSCALE:GREGORIAN
BEGIN:VEVENT
DTSTART:20230113T000000Z
DTEND:20230113T020000Z
X-MICROSOFT-CDO-ALLDAYEVENT:FALSE
SUMMARY:"Level Up" Young Professionals Meet and Greet
DESCRIPTION:Get ready to put on your Game Face!\n\nYou're invited to a meet and greet for the Chamber's new young professionals group aimed at ages 20-35 years old.\n\nNot a member? No problem\, come hang out with us and meet new friends!\n\nFeel free to bring a friend with you too!
X-ALT-DESC;FMTTYPE=text/html:Get ready to put on your Game Face!<br />\nYou&#39\;re invited to a meet and greet for the Chamber&#39\;s new young professionals group aimed at ages 20-35 years old.<br />\nNot a member? No problem\, come hang out with us and meet new friends!<br />\nFeel free to bring a friend with you too!
LOCATION:Bricks and Ivy Sports Tavern 2508 US-12 Spring Grove\, IL
UID:e.2066.4900
SEQUENCE:3
DTSTAMP:20260420T001949Z
URL:https://dev.chainolakeschamber.com/events/details/level-up-young-professionals-meet-and-greet-4900
END:VEVENT

END:VCALENDAR
