BEGIN:VCALENDAR
VERSION:2.0
PRODID:-//ChamberMaster//Event Calendar 2.0//EN
METHOD:PUBLISH
X-PUBLISHED-TTL:P3D
REFRESH-INTERVAL:P3D
CALSCALE:GREGORIAN
BEGIN:VEVENT
DTSTART:20220422T134000Z
DTEND:20220422T211500Z
X-MICROSOFT-CDO-ALLDAYEVENT:FALSE
SUMMARY:Learning Day (Five 75-minute virtual sessions)
DESCRIPTION:Sign up for our 75-minute virtual training sessions to increase your work effectiveness and productivity. Professional business trainer Michael Sugarman facilitates five business workshops in one day. Attend as many or as few as you want! Schedule: 1. Ten Ways to Keep You and Your Staff Positive (8:30 am - 9:45 am CT) 2. Dealing with Angry Customers (10:00 am - 11:15 am CT) 3. Top Eight Management Skills all Business Leaders Need (11:30 am - 12:45 pm CT) 4. Improve Your Business Writing (1:30 pm - 2:45 pm CT) 5. Top Ten Tips to Conduct Effective Meetings (3:00 pm - 4:15 pm CT)
X-ALT-DESC;FMTTYPE=text/html:Sign up for our 75-minute virtual training sessions to increase your work effectiveness and productivity. Professional business trainer Michael Sugarman facilitates five business workshops in one day. Attend as many or as few as you want! Schedule: 1. Ten Ways to Keep You and Your Staff Positive (8:30 am - 9:45 am CT) 2. Dealing with Angry Customers (10:00 am - 11:15 am CT) 3. Top Eight Management Skills all Business Leaders Need (11:30 am - 12:45 pm CT) 4. Improve Your Business Writing (1:30 pm - 2:45 pm CT) 5. Top Ten Tips to Conduct Effective Meetings (3:00 pm - 4:15 pm CT)
LOCATION:Virtual Live
UID:e.2066.4495
SEQUENCE:3
DTSTAMP:20260422T204623Z
URL:https://dev.chainolakeschamber.com/events/details/learning-day-five-75-minute-virtual-sessions-04-22-2022-4495
END:VEVENT

END:VCALENDAR
