BEGIN:VCALENDAR
VERSION:2.0
PRODID:-//ChamberMaster//Event Calendar 2.0//EN
METHOD:PUBLISH
X-PUBLISHED-TTL:P3D
REFRESH-INTERVAL:P3D
CALSCALE:GREGORIAN
BEGIN:VEVENT
DTSTART:20221020T160000Z
DTEND:20221020T170000Z
X-MICROSOFT-CDO-ALLDAYEVENT:FALSE
SUMMARY:Learn More About Medicare Advantage Part C
DESCRIPTION:Medicare Advantage\, also known as Medicare Part C\, provides both hospital and medical coverage. Some Medicare Advantage plans offer prescription drug coverage\, as well as other benefits that Medicare does not cover. Learn how Medicare Advantage plans work and what to look for when choosing a plan.
X-ALT-DESC;FMTTYPE=text/html:<span style="font-family:arial narrow\,sans-serif"><span style="font-size:16.0pt">Medicare Advantage\, also known as Medicare Part C\, provides both hospital and medical coverage. Some Medicare Advantage plans offer prescription drug coverage\, as well as other benefits that Medicare does not cover. Learn how Medicare Advantage plans work and what to look for when choosing a plan.</span></span>
LOCATION:Zoom
UID:e.2066.4649
SEQUENCE:3
DTSTAMP:20260424T085031Z
URL:https://dev.chainolakeschamber.com/events/details/learn-more-about-medicare-advantage-part-c-4649
END:VEVENT

END:VCALENDAR
