BEGIN:VCALENDAR
VERSION:2.0
PRODID:-//ChamberMaster//Event Calendar 2.0//EN
METHOD:PUBLISH
X-PUBLISHED-TTL:P3D
REFRESH-INTERVAL:P3D
CALSCALE:GREGORIAN
BEGIN:VEVENT
DTSTART;VALUE=DATE:20210409
DTEND;VALUE=DATE:20210410
TRANSP:TRANSPARENT
X-MICROSOFT-CDO-ALLDAYEVENT:TRUE
SUMMARY:Last Chance to be in the 2021 Community Guide
DESCRIPTION:Last chance to be included in the community guide at no additional cost!\n\n\n\nEvery member of the chamber is listed alphabetically and by category\n\n\n\nAdditional ads can be purchased by calling Mark at 847-687-2816
X-ALT-DESC;FMTTYPE=text/html:Last chance to be included in the community guide at no additional cost!<br />\n<br />\nEvery member of the chamber is listed alphabetically and by category<br />\n<br />\n<strong>Additional ads can be purchased by calling Mark at 847-687-2816</strong>
LOCATION:
UID:e.2066.3862
SEQUENCE:3
DTSTAMP:20260423T160306Z
URL:https://dev.chainolakeschamber.com/events/details/last-chance-to-be-in-the-2021-community-guide-3862
END:VEVENT

END:VCALENDAR
