BEGIN:VCALENDAR
VERSION:2.0
PRODID:-//ChamberMaster//Event Calendar 2.0//EN
METHOD:PUBLISH
X-PUBLISHED-TTL:P3D
REFRESH-INTERVAL:P3D
CALSCALE:GREGORIAN
BEGIN:VEVENT
DTSTART:20230812T170000Z
DTEND:20230812T210000Z
X-MICROSOFT-CDO-ALLDAYEVENT:FALSE
SUMMARY:Lakemoor Fest Bags Tournement
DESCRIPTION:LAKEMOOR FEST BAGS TOURNAMENT Saturday\, Aug 12th\, Noon\n\n \n\n\n\nTo Register:\n\nScan QR code or\n\nCall Trustee Jessica McLeod @ 224-595-6599
X-ALT-DESC;FMTTYPE=text/html:<div class="xdj266r x11i5rnm xat24cr x1mh8g0r x1vvkbs x126k92a" style="margin: 0px\; white-space-collapse: preserve\; overflow-wrap: break-word\; font-family: &quot\;Segoe UI Historic&quot\;\, &quot\;Segoe UI&quot\;\, Helvetica\, Arial\, sans-serif\; color: rgb(5\, 5\, 5)\; font-size: 15px\;">\n<div dir="auto" style="font-family: inherit\;">LAKEMOOR FEST BAGS TOURNAMENT Saturday\, Aug 12th\, Noon<br />\n&nbsp\;</div>\n</div>\n\n<div class="x11i5rnm xat24cr x1mh8g0r x1vvkbs xtlvy1s x126k92a" style="margin: 0.5em 0px 0px\; white-space-collapse: preserve\; overflow-wrap: break-word\; font-family: &quot\;Segoe UI Historic&quot\;\, &quot\;Segoe UI&quot\;\, Helvetica\, Arial\, sans-serif\; color: rgb(5\, 5\, 5)\; font-size: 15px\;">\n<div dir="auto" style="font-family: inherit\;">To Register:</div>\n\n<div dir="auto" style="font-family: inherit\;">Scan QR code or</div>\n\n<div dir="auto" style="font-family: inherit\;">Call Trustee Jessica McLeod @ 224-595-6599</div>\n</div>\n
LOCATION:Morrison Park 233 Rand Road Basketball Court Lakemoor IL
UID:e.2066.5285
SEQUENCE:3
DTSTAMP:20260419T122009Z
URL:https://dev.chainolakeschamber.com/events/details/lakemoor-fest-bags-tournement-5285
END:VEVENT

END:VCALENDAR
