BEGIN:VCALENDAR
VERSION:2.0
PRODID:-//ChamberMaster//Event Calendar 2.0//EN
METHOD:PUBLISH
X-PUBLISHED-TTL:P3D
REFRESH-INTERVAL:P3D
CALSCALE:GREGORIAN
BEGIN:VEVENT
DTSTART:20230812T233000Z
DTEND:20230813T020000Z
X-MICROSOFT-CDO-ALLDAYEVENT:FALSE
SUMMARY:Lake Villa Picnic in the Park - Nashville Recording Artist Ryan Jesse
DESCRIPTION:Join us for our 2nd Picnic in the Park Event. Nashville recording artist Ryan Jesse will be performing at the Lehmann Mansion from 6:30-9pm.\n\nReminder that no dogs are allowed.\n\nFood and drinks from BBQ'd Productions\, Crazee Ice\, & Johnny Boys Mini Donuts will be available for purchase.
X-ALT-DESC;FMTTYPE=text/html:<div class="xdj266r x11i5rnm xat24cr x1mh8g0r x1vvkbs" style="margin: 0px\; overflow-wrap: break-word\; font-family: &quot\;Segoe UI Historic&quot\;\, &quot\;Segoe UI&quot\;\, Helvetica\, Arial\, sans-serif\; color: rgb(5\, 5\, 5)\; font-size: 15px\;">Join us for our 2nd Picnic in the Park Event. Nashville recording artist Ryan Jesse will be performing at the Lehmann Mansion from 6:30-9pm.</div>\n\n<div class="x11i5rnm xat24cr x1mh8g0r x1vvkbs xtlvy1s" style="margin: 0.5em 0px 0px\; overflow-wrap: break-word\; font-family: &quot\;Segoe UI Historic&quot\;\, &quot\;Segoe UI&quot\;\, Helvetica\, Arial\, sans-serif\; color: rgb(5\, 5\, 5)\; font-size: 15px\;">Reminder that no dogs are allowed.</div>\n\n<div class="x11i5rnm xat24cr x1mh8g0r x1vvkbs xtlvy1s" style="margin: 0.5em 0px 0px\; overflow-wrap: break-word\; font-family: &quot\;Segoe UI Historic&quot\;\, &quot\;Segoe UI&quot\;\, Helvetica\, Arial\, sans-serif\; color: rgb(5\, 5\, 5)\; font-size: 15px\;">Food and drinks from BBQ&#39\;d Productions\, Crazee Ice\, &amp\; Johnny Boys Mini Donuts will be available for purchase.&nbsp\;</div>\n
LOCATION:The Lehmann Mansion Lake Villa IL
UID:e.2066.5366
SEQUENCE:3
DTSTAMP:20260419T122554Z
URL:https://dev.chainolakeschamber.com/events/details/lake-villa-picnic-in-the-park-nashville-recording-artist-ryan-jesse-5366
END:VEVENT

END:VCALENDAR
