BEGIN:VCALENDAR
VERSION:2.0
PRODID:-//ChamberMaster//Event Calendar 2.0//EN
METHOD:PUBLISH
X-PUBLISHED-TTL:P3D
REFRESH-INTERVAL:P3D
CALSCALE:GREGORIAN
BEGIN:VEVENT
DTSTART:20230526T160000Z
DTEND:20230527T000000Z
X-MICROSOFT-CDO-ALLDAYEVENT:FALSE
SUMMARY:Lake Geneva Ministries 21st Annual Golf Outing!
DESCRIPTION:KIDS NEED CAMP MORE THAN EVER\n\nConsider everything that is challenging for kids today. Kids struggle with anxiety\, depression\, and a general sense of purpose. They battle isolation and are constantly connected to a screen. Kids need to get outside more. Each of these needs is met by a Christ-centered camp experience. Let's raise funds to ensure every kid can get to camp. Join us on May 26th at Grand Geneva's Highland Course to make a difference in kids' lives.
X-ALT-DESC;FMTTYPE=text/html:<span style="font-size:18px\;"><span style="color: rgb(10\, 10\, 10)\; font-family: &quot\;gotham bold&quot\;\; text-transform: uppercase\;"><strong>KIDS NEED CAMP MORE THAN EVER</strong></span></span><br />\n<span style="color: rgb(96\, 95\, 93)\; font-family: &quot\;gotham book&quot\;\, Helvetica\, Roboto\, Arial\, sans-serif\; font-size: 16px\;">Consider everything that is challenging for kids today. Kids struggle with anxiety\, depression\, and a general sense of purpose. They battle isolation and are constantly connected to a screen. Kids need to get outside more. Each of these needs is met by a Christ-centered camp experience. Let&#39\;s raise funds to ensure every kid can get to camp. Join us on May 26th at Grand Geneva&#39\;s Highland Course to make a difference in kids&#39\; lives.&nbsp\;</span>
LOCATION:GRAND GENEVA THE HIGHLANDS GOLF COURSE 7036 GRAND GENEVA WAY\, WI 53147
UID:e.2066.5129
SEQUENCE:3
DTSTAMP:20260419T185718Z
URL:https://dev.chainolakeschamber.com/events/details/lake-geneva-ministries-21st-annual-golf-outing-5129
END:VEVENT

END:VCALENDAR
