BEGIN:VCALENDAR
VERSION:2.0
PRODID:-//ChamberMaster//Event Calendar 2.0//EN
METHOD:PUBLISH
X-PUBLISHED-TTL:P3D
REFRESH-INTERVAL:P3D
CALSCALE:GREGORIAN
BEGIN:VEVENT
DTSTART:20230225T230000Z
DTEND:20230226T030000Z
X-MICROSOFT-CDO-ALLDAYEVENT:FALSE
SUMMARY:Lake County Craft Beer Festival
DESCRIPTION:The 8th annual Craft Beer Festival features local\, regional\, and national breweries\, distilleries\, and wineries sampling specialty and seasonal beers\, plus music\, food\, games\, and entertainment! This year's event features a 1920's Prohibition theme!
X-ALT-DESC;FMTTYPE=text/html:<h3>The 8th annual Craft Beer Festival features local\, regional\, and national breweries\, distilleries\, and wineries sampling specialty and seasonal beers\, plus music\, food\, games\, and entertainment! This year&#39\;s event features a 1920&#39\;s Prohibition theme!</h3>\n
LOCATION:Lake County Fairgrounds & Event Center 1060 East Peterson Road Grayslake Illinois 60030
UID:e.2066.4995
SEQUENCE:3
DTSTAMP:20260419T223248Z
URL:https://dev.chainolakeschamber.com/events/details/lake-county-craft-beer-festival-4995
END:VEVENT

END:VCALENDAR
