BEGIN:VCALENDAR
VERSION:2.0
PRODID:-//ChamberMaster//Event Calendar 2.0//EN
METHOD:PUBLISH
X-PUBLISHED-TTL:P3D
REFRESH-INTERVAL:P3D
CALSCALE:GREGORIAN
BEGIN:VEVENT
DTSTART:20230304T003000Z
DTEND:20230304T023000Z
X-MICROSOFT-CDO-ALLDAYEVENT:FALSE
SUMMARY:Ladies' Night Out at Chapel Hill Bodyworks and Renee Ryan Salon!
DESCRIPTION:Ladies' Night Out with Chapel Hill Bodyworks Wellness Center and Renee Ryan Salon & Spa!\n\nA night of networking and pampering will include:\n\n	Mini Microcurrent Facial Rejuvenation Sessions\n	20 Minute Health Coaching Consults\n	Eyebrow Mapping Consults\n	15 Minute Messages\n	Raffle Prize\n	Sandwiches from Lakeland Deli\n	Beverages\n\nSpace is limited so RSVP today!
X-ALT-DESC;FMTTYPE=text/html:Ladies&#39\; Night Out with Chapel Hill Bodyworks Wellness Center and Renee Ryan Salon &amp\; Spa!<br />\nA night of networking and pampering will include:\n<ul>\n	<li>Mini Microcurrent Facial Rejuvenation Sessions</li>\n	<li>20 Minute Health Coaching Consults</li>\n	<li>Eyebrow Mapping Consults</li>\n	<li>15 Minute Messages</li>\n	<li>Raffle Prize</li>\n	<li>Sandwiches from Lakeland Deli</li>\n	<li>Beverages</li>\n</ul>\nSpace is limited so RSVP today!
LOCATION:62 E. Grand Avenue Fox Lake IL
UID:e.2066.4980
SEQUENCE:3
DTSTAMP:20260419T223553Z
URL:https://dev.chainolakeschamber.com/events/details/ladies-night-out-at-chapel-hill-bodyworks-and-renee-ryan-salon-4980
END:VEVENT

END:VCALENDAR
