BEGIN:VCALENDAR
VERSION:2.0
PRODID:-//ChamberMaster//Event Calendar 2.0//EN
METHOD:PUBLISH
X-PUBLISHED-TTL:P3D
REFRESH-INTERVAL:P3D
CALSCALE:GREGORIAN
BEGIN:VEVENT
DTSTART:20200301T000000Z
DTEND:20200301T040000Z
X-MICROSOFT-CDO-ALLDAYEVENT:FALSE
SUMMARY:Knights of Columbus 3rd Annual Bunco Night
DESCRIPTION:
X-ALT-DESC;FMTTYPE=text/html:
LOCATION:Knights of Columbus 36455 N Wilson Rd Ingleside
UID:e.2066.3243
SEQUENCE:3
DTSTAMP:20260424T160715Z
URL:https://dev.chainolakeschamber.com/events/details/knights-of-columbus-3rd-annual-bunco-night-3243
END:VEVENT

END:VCALENDAR
