BEGIN:VCALENDAR
VERSION:2.0
PRODID:-//ChamberMaster//Event Calendar 2.0//EN
METHOD:PUBLISH
X-PUBLISHED-TTL:P3D
REFRESH-INTERVAL:P3D
CALSCALE:GREGORIAN
BEGIN:VEVENT
DTSTART:20211129T140000Z
DTEND:20211129T210000Z
X-MICROSOFT-CDO-ALLDAYEVENT:FALSE
SUMMARY:Kindergarten Registration- Nippersink School Dist. 2
DESCRIPTION:Please contact Kristy Dodge at 815-678-6866 for assistance.
X-ALT-DESC;FMTTYPE=text/html:<span style="font-family:comic sans ms\;"><span style="font-size:18.0pt\;">Please contact Kristy Dodge at 815-678-6866 for assistance.</span></span><br />\n<br />\n&nbsp\;
LOCATION:The screening will take place at the school your child will attend Kindergarten\, either Richmond Grade School or Spring Grove Elementary
UID:e.2066.4164
SEQUENCE:3
DTSTAMP:20260423T051153Z
URL:https://dev.chainolakeschamber.com/events/details/kindergarten-registration-nippersink-school-dist-2-4164
END:VEVENT

END:VCALENDAR
