BEGIN:VCALENDAR
VERSION:2.0
PRODID:-//ChamberMaster//Event Calendar 2.0//EN
METHOD:PUBLISH
X-PUBLISHED-TTL:P3D
REFRESH-INTERVAL:P3D
CALSCALE:GREGORIAN
BEGIN:VEVENT
DTSTART;VALUE=DATE:20210201
DTEND;VALUE=DATE:20210202
TRANSP:TRANSPARENT
X-MICROSOFT-CDO-ALLDAYEVENT:TRUE
SUMMARY:Kindergarten Registration- Nippersink School Dist. 2
DESCRIPTION:Beginning February 1\, 2021\, Kindergarten registration will open for all D2 children born on or before September 1\, 2016. \n\n\n\nTo register\, please visit www.nippersinkdistrict2.org and click on Menu / Kindergarten Enrollment   to begin the registration process.\n\n \n\nNo computer access? Please contact Kristy Dodge at 815-678-6866 for assistance.
X-ALT-DESC;FMTTYPE=text/html:<span style="font-family:comic sans ms\;"><span style="font-size:18.0pt\;">Beginning February 1\, 2021\, Kindergarten registration will open for all D2 children <strong><u>born on or before September 1\, 2016</u>. </strong><br />\n<br />\nTo register\, please visit </span></span><a href="http://www.nippersinkdistrict2.org"><span style="font-family:comic sans ms\;"><span style="font-size:18.0pt\;">www.nippersinkdistrict2.org</span></span></a><span style="font-family:comic sans ms\;"><span style="font-size:18.0pt\;"> and click on Menu / Kindergarten Enrollment &ndash\; to begin the registration process.</span></span><br />\n&nbsp\;<br />\n<span style="font-family:comic sans ms\;"><span style="font-size:18.0pt\;">No computer access? Please contact Kristy Dodge at 815-678-6866 for assistance.</span></span><br />\n<br />\n&nbsp\;
LOCATION:
UID:e.2066.3700
SEQUENCE:3
DTSTAMP:20260423T193501Z
URL:https://dev.chainolakeschamber.com/events/details/kindergarten-registration-nippersink-school-dist-2-3700
END:VEVENT

END:VCALENDAR
