BEGIN:VCALENDAR
VERSION:2.0
PRODID:-//ChamberMaster//Event Calendar 2.0//EN
METHOD:PUBLISH
X-PUBLISHED-TTL:P3D
REFRESH-INTERVAL:P3D
CALSCALE:GREGORIAN
BEGIN:VEVENT
DTSTART:20221109T230000Z
DTEND:20221110T010000Z
X-MICROSOFT-CDO-ALLDAYEVENT:FALSE
SUMMARY:Kelleher & Holland Multi Chamber Mixer
DESCRIPTION:Join Kelleher & Holland\, Chain O'Lakes Area Chamber of Commerce and Wauconda Area Chamber of Commerce for a night of hosted trivia from Pub Trivia USA and food from Uncle D's!
X-ALT-DESC;FMTTYPE=text/html:Join Kelleher &amp\; Holland\, Chain O&#39\;Lakes Area Chamber of Commerce and Wauconda Area Chamber of Commerce for a night of hosted trivia from Pub Trivia USA and food from Uncle D&#39\;s!
LOCATION:102 W. Wynstone Park Dr North Barrington IL
UID:e.2066.4630
SEQUENCE:3
DTSTAMP:20260422T091029Z
URL:https://dev.chainolakeschamber.com/events/details/kelleher-holland-multi-chamber-mixer-4630
END:VEVENT

END:VCALENDAR
